BEGIN:VCALENDAR
VERSION:2.0
PRODID:-//Brain it - ECPv6.0.1.1//NONSGML v1.0//EN
CALSCALE:GREGORIAN
METHOD:PUBLISH
X-ORIGINAL-URL:https://old.brain-it.fr
X-WR-CALDESC:Events for Brain it
REFRESH-INTERVAL;VALUE=DURATION:PT1H
X-Robots-Tag:noindex
X-PUBLISHED-TTL:PT1H
BEGIN:VTIMEZONE
TZID:Europe/Paris
BEGIN:DAYLIGHT
TZOFFSETFROM:+0100
TZOFFSETTO:+0200
TZNAME:CEST
DTSTART:20250330T010000
END:DAYLIGHT
BEGIN:STANDARD
TZOFFSETFROM:+0200
TZOFFSETTO:+0100
TZNAME:CET
DTSTART:20251026T010000
END:STANDARD
END:VTIMEZONE
BEGIN:VEVENT
DTSTART;TZID=Europe/Paris:20250124T080000
DTEND;TZID=Europe/Paris:20250125T170000
DTSTAMP:20260424T000634
CREATED:20240708T130943Z
LAST-MODIFIED:20241001T090706Z
UID:6047-1737705600-1737824400@old.brain-it.fr
SUMMARY:Le périnée : la base
DESCRIPTION:
URL:https://old.brain-it.fr/event/le-perinee-la-base/
END:VEVENT
END:VCALENDAR